BEGIN:VCALENDAR
VERSION:2.0
PRODID:-//Uma Kerri Yoga - ECPv5.8.0//NONSGML v1.0//EN
CALSCALE:GREGORIAN
METHOD:PUBLISH
X-WR-CALNAME:Uma Kerri Yoga
X-ORIGINAL-URL:https://umakerriyoga.com
X-WR-CALDESC:Events for Uma Kerri Yoga
BEGIN:VTIMEZONE
TZID:America/New_York
BEGIN:DAYLIGHT
TZOFFSETFROM:-0500
TZOFFSETTO:-0400
TZNAME:EDT
DTSTART:20200308T070000
END:DAYLIGHT
BEGIN:STANDARD
TZOFFSETFROM:-0400
TZOFFSETTO:-0500
TZNAME:EST
DTSTART:20201101T060000
END:STANDARD
END:VTIMEZONE
BEGIN:VEVENT
DTSTART;TZID=America/New_York:20201120T203000
DTEND;TZID=America/New_York:20201120T214500
DTSTAMP:20260420T111615
CREATED:20201022T014203Z
LAST-MODIFIED:20201116T235802Z
UID:2561-1605904200-1605908700@umakerriyoga.com
SUMMARY:Healing Vibration Satsang
DESCRIPTION:Let’s come together as a community and chant\, meditate and receive positive vibrations with quartz crystal bowls and Tibetan singing bowls. \nHealing Vibration Satsang \nWhere : Yoga at Home \nWhen : Friday Evening November 20\, 2020 \nTime: 8:30pm – 9:45pm \nCost: Free \nSending you love\, \nUma Kerri
URL:https://umakerriyoga.com/event/healing-vibration-satsang-12/
END:VEVENT
END:VCALENDAR