BEGIN:VCALENDAR
VERSION:2.0
PRODID:-//Uma Kerri Yoga - ECPv5.8.0//NONSGML v1.0//EN
CALSCALE:GREGORIAN
METHOD:PUBLISH
X-WR-CALNAME:Uma Kerri Yoga
X-ORIGINAL-URL:https://umakerriyoga.com
X-WR-CALDESC:Events for Uma Kerri Yoga
BEGIN:VTIMEZONE
TZID:America/New_York
BEGIN:DAYLIGHT
TZOFFSETFROM:-0500
TZOFFSETTO:-0400
TZNAME:EDT
DTSTART:20200308T070000
END:DAYLIGHT
BEGIN:STANDARD
TZOFFSETFROM:-0400
TZOFFSETTO:-0500
TZNAME:EST
DTSTART:20201101T060000
END:STANDARD
END:VTIMEZONE
BEGIN:VEVENT
DTSTART;TZID=America/New_York:20200424T210000
DTEND;TZID=America/New_York:20200424T220000
DTSTAMP:20260425T120902
CREATED:20200419T134208Z
LAST-MODIFIED:20200422T021915Z
UID:2143-1587762000-1587765600@umakerriyoga.com
SUMMARY:Healing Vibration Satsang
DESCRIPTION:Let’s come together as a community and chant\, meditate and receive positive vibrations with quartz crystal bowls and Tibetan singing bowls. \nKerri Kantor is inviting you to a scheduled Zoom meeting. \nTopic: Healing Vibration Satsang\nTime: Apr 24\, 2020 09:00 PM Eastern Time (US and Canada) \nJoin Zoom Meeting\nhttps://zoom.us/j/94656956176?pwd=RVlEdmJGZnRjcmdDNnZpa0psMFdrZz09 \nMeeting ID: 946 5695 6176\nPassword: 063552 \nHealing Vibration Satsang \nWhere : Yoga at Home \nWhen : Friday Evening April 24\, 2020 \nTime: 9:00pm-10:00pm \nCost: Free \nSending you love\, \nUma Kerri
URL:https://umakerriyoga.com/event/healing-vibration-satsang-2/
END:VEVENT
END:VCALENDAR