BEGIN:VCALENDAR
VERSION:2.0
PRODID:-//Uma Kerri Yoga - ECPv5.8.0//NONSGML v1.0//EN
CALSCALE:GREGORIAN
METHOD:PUBLISH
X-WR-CALNAME:Uma Kerri Yoga
X-ORIGINAL-URL:https://umakerriyoga.com
X-WR-CALDESC:Events for Uma Kerri Yoga
BEGIN:VTIMEZONE
TZID:America/New_York
BEGIN:DAYLIGHT
TZOFFSETFROM:-0500
TZOFFSETTO:-0400
TZNAME:EDT
DTSTART:20180311T070000
END:DAYLIGHT
BEGIN:STANDARD
TZOFFSETFROM:-0400
TZOFFSETTO:-0500
TZNAME:EST
DTSTART:20181104T060000
END:STANDARD
END:VTIMEZONE
BEGIN:VEVENT
DTSTART;TZID=America/New_York:20181216T160000
DTEND;TZID=America/New_York:20181216T180000
DTSTAMP:20260423T194241
CREATED:20181207T021837Z
LAST-MODIFIED:20181207T021838Z
UID:981-1544976000-1544983200@umakerriyoga.com
SUMMARY:Yoga and Meditation Retreat Workshop
DESCRIPTION:Where : Cornerstone Montclair \nWhen : Sunday December 16th\, 2018 \nTime : 4:00 – 6:00pm  \nCost : $35\nPlease sign up at www.umakerriyoga.com \nLet’s get together and GO DEEPER. \nThis workshop will focus on LISTENING to the voice inside.  \nWe will embrace this busy time of year by taking the time to get STILL and find SPACE to enjoy these special moments.  \nWe will flow through a MINDFUL FLOW YOGA practice\, with intermittent meditations.   \nWe can accomplish so much by coming to together to support\, connect and inspire one another. \nSee you on the mat.
URL:https://umakerriyoga.com/event/yoga-and-meditation-retreat-workshop/
LOCATION:Cornerstone Montclair\, 198 Bellevue Avenue\, Montclair\, NJ\, 07043\, United States
ORGANIZER;CN="Kerri":MAILTO:umakerriyoga@gmail.com
GEO:40.8404346;-74.2056657
X-APPLE-STRUCTURED-LOCATION;VALUE=URI;X-ADDRESS=Cornerstone Montclair 198 Bellevue Avenue Montclair NJ 07043 United States;X-APPLE-RADIUS=500;X-TITLE=198 Bellevue Avenue:geo:-74.2056657,40.8404346
END:VEVENT
END:VCALENDAR