BEGIN:VCALENDAR
VERSION:2.0
PRODID:-//Uma Kerri Yoga - ECPv5.8.0//NONSGML v1.0//EN
CALSCALE:GREGORIAN
METHOD:PUBLISH
X-WR-CALNAME:Uma Kerri Yoga
X-ORIGINAL-URL:https://umakerriyoga.com
X-WR-CALDESC:Events for Uma Kerri Yoga
BEGIN:VTIMEZONE
TZID:America/New_York
BEGIN:DAYLIGHT
TZOFFSETFROM:-0500
TZOFFSETTO:-0400
TZNAME:EDT
DTSTART:20200308T070000
END:DAYLIGHT
BEGIN:STANDARD
TZOFFSETFROM:-0400
TZOFFSETTO:-0500
TZNAME:EST
DTSTART:20201101T060000
END:STANDARD
END:VTIMEZONE
BEGIN:VEVENT
DTSTART;TZID=America/New_York:20200421T080000
DTEND;TZID=America/New_York:20200421T090000
DTSTAMP:20260425T151002
CREATED:20200419T134400Z
LAST-MODIFIED:20200421T005211Z
UID:2147-1587456000-1587459600@umakerriyoga.com
SUMMARY:Yoga at Home
DESCRIPTION:Let’s YOGA at home together. I’d love to see you on the mat. \nKerri Kantor is inviting you to a scheduled Zoom meeting. \nTopic: Yoga at Home\nTime: Apr 21\, 2020 08:00 AM Eastern Time (US and Canada) \nJoin Zoom Meeting\nhttps://zoom.us/j/91391801630?pwd=Z0E1Wkt4VlFHbkpRODVsOFJWMmUrUT09 \nMeeting ID: 913 9180 1630\nPassword: 072066 \nWe will focus on meditation\, chanting\, opening our heart\, breath work and mindful yoga. \nMindful Yoga and Meditation \nWhere : Yoga at Home \nWhen :Tuesday Morning April 21\, 2020 \nTime: 8:00am-9:00am \nCost: Suggested donation : $8\nYou can sign up on my website : www.umakerriyoga.com\nOR You can send payment through Zelle to : umakerriyoga@gmail.com \nI will post the ZOOM link for EVERYONE. If you can pay\, please do. If you can’t\, please join us! We are all in this together and ALL are welcome. \nSending you love\, \nUma Kerri
URL:https://umakerriyoga.com/event/yoga-at-home-4/
END:VEVENT
END:VCALENDAR